BEGIN:VCALENDAR
VERSION:2.0
PRODID:-//Edison Charger Basketball - ECPv6.15.20//NONSGML v1.0//EN
CALSCALE:GREGORIAN
METHOD:PUBLISH
X-WR-CALNAME:Edison Charger Basketball
X-ORIGINAL-URL:https://edisonchargerbasketball.com
X-WR-CALDESC:Events for Edison Charger Basketball
REFRESH-INTERVAL;VALUE=DURATION:PT1H
X-Robots-Tag:noindex
X-PUBLISHED-TTL:PT1H
BEGIN:VTIMEZONE
TZID:America/Los_Angeles
BEGIN:DAYLIGHT
TZOFFSETFROM:-0800
TZOFFSETTO:-0700
TZNAME:PDT
DTSTART:20240310T100000
END:DAYLIGHT
BEGIN:STANDARD
TZOFFSETFROM:-0700
TZOFFSETTO:-0800
TZNAME:PST
DTSTART:20241103T090000
END:STANDARD
BEGIN:DAYLIGHT
TZOFFSETFROM:-0800
TZOFFSETTO:-0700
TZNAME:PDT
DTSTART:20250309T100000
END:DAYLIGHT
BEGIN:STANDARD
TZOFFSETFROM:-0700
TZOFFSETTO:-0800
TZNAME:PST
DTSTART:20251102T090000
END:STANDARD
BEGIN:DAYLIGHT
TZOFFSETFROM:-0800
TZOFFSETTO:-0700
TZNAME:PDT
DTSTART:20260308T100000
END:DAYLIGHT
BEGIN:STANDARD
TZOFFSETFROM:-0700
TZOFFSETTO:-0800
TZNAME:PST
DTSTART:20261101T090000
END:STANDARD
END:VTIMEZONE
BEGIN:VEVENT
DTSTART;TZID=America/Los_Angeles:20251129T170000
DTEND;TZID=America/Los_Angeles:20251129T180000
DTSTAMP:20260423T022357
CREATED:20250830T033122Z
LAST-MODIFIED:20251031T152847Z
UID:1954-1764435600-1764439200@edisonchargerbasketball.com
SUMMARY:Varsity Game vs. Mission Viejo (Feast Week) @ Foothill
DESCRIPTION:
URL:https://edisonchargerbasketball.com/event/feast-week-vs-mission-viejo-tbd/
LOCATION:Foothill High School\, 19251 Dodge Ave\, Santa Ana\, CA\, 92705
CATEGORIES:Varsity
ATTACH;FMTTYPE=image/jpeg:https://edisonchargerbasketball.com/wp-content/uploads/2025/08/IMG_1122.jpg
END:VEVENT
END:VCALENDAR