BEGIN:VCALENDAR
VERSION:2.0
PRODID:-//Edison Charger Basketball - ECPv6.15.20//NONSGML v1.0//EN
CALSCALE:GREGORIAN
METHOD:PUBLISH
X-WR-CALNAME:Edison Charger Basketball
X-ORIGINAL-URL:https://edisonchargerbasketball.com
X-WR-CALDESC:Events for Edison Charger Basketball
REFRESH-INTERVAL;VALUE=DURATION:PT1H
X-Robots-Tag:noindex
X-PUBLISHED-TTL:PT1H
BEGIN:VTIMEZONE
TZID:America/Los_Angeles
BEGIN:DAYLIGHT
TZOFFSETFROM:-0800
TZOFFSETTO:-0700
TZNAME:PDT
DTSTART:20240310T100000
END:DAYLIGHT
BEGIN:STANDARD
TZOFFSETFROM:-0700
TZOFFSETTO:-0800
TZNAME:PST
DTSTART:20241103T090000
END:STANDARD
BEGIN:DAYLIGHT
TZOFFSETFROM:-0800
TZOFFSETTO:-0700
TZNAME:PDT
DTSTART:20250309T100000
END:DAYLIGHT
BEGIN:STANDARD
TZOFFSETFROM:-0700
TZOFFSETTO:-0800
TZNAME:PST
DTSTART:20251102T090000
END:STANDARD
BEGIN:DAYLIGHT
TZOFFSETFROM:-0800
TZOFFSETTO:-0700
TZNAME:PDT
DTSTART:20260308T100000
END:DAYLIGHT
BEGIN:STANDARD
TZOFFSETFROM:-0700
TZOFFSETTO:-0800
TZNAME:PST
DTSTART:20261101T090000
END:STANDARD
END:VTIMEZONE
BEGIN:VEVENT
DTSTART;TZID=America/Los_Angeles:20251121T190000
DTEND;TZID=America/Los_Angeles:20251121T203000
DTSTAMP:20260425T130925
CREATED:20250830T031429Z
LAST-MODIFIED:20251118T141225Z
UID:1947-1763751600-1763757000@edisonchargerbasketball.com
SUMMARY:Varsity Game vs Pacifica Christian @Vangard University (Away)
DESCRIPTION:Click here to buy tickets for this game\nhttps://edisonchargerbasketball.com/wp-content/uploads/2025/08/2025-08-29_20-20-48.mp4\n\nEvent Details\n\n\nBring the Rain Game Details\nPacifica Christian’s annual Bring the Rain game is BACK! On Friday\, November 21\, Triton Nation will dress in white and arrive at the Freed Center at Vanguard University armed with rolls and rolls and rolls of toilet paper that will rain onto the court after the first Pacifica 3-point basket is made during the boys game. Free Bring the Rain T-Shirts will be provided to the first 200 guests. There is limited seating for this event and tickets will be sold on a first-come\, first-serve basis\, so buy your tickets today. Check out our Bring the Rain video here! \nBoys Game\nPacifica Christian Tritons vs. Edison High School\n7:00 PM (This game will sell out\, so get your tickets today!) \nPre-sale Tickets (click to buy here)\nGeneral Admission: $10.00\nHigh School Students w/ID: $5.00\nChildren 12-under: FREE \nTickets at the door (if available)\nGeneral Admission: $15.00\nHigh School Students w/ID: $10.00\nChildren 12-under: FREE \nPlease Note: All high school students must have a ticket to attend these games; student tickets may be purchased here and we recommend using your Student ID to obtain the $5 ticket price. \n\n 
URL:https://edisonchargerbasketball.com/event/varsity-game-pacifica-christian/
LOCATION:Vanguard University Freed Center\, Gymnasium\, Vanguard Pl.\, Costa Mesa\, CA\, 92626
CATEGORIES:Varsity
ATTACH;FMTTYPE=image/png:https://edisonchargerbasketball.com/wp-content/uploads/2025/11/Edison-vs-Pacifica.png
END:VEVENT
END:VCALENDAR