BEGIN:VCALENDAR
VERSION:2.0
PRODID:-//Edison Charger Basketball - ECPv6.15.20//NONSGML v1.0//EN
CALSCALE:GREGORIAN
METHOD:PUBLISH
X-ORIGINAL-URL:https://edisonchargerbasketball.com
X-WR-CALDESC:Events for Edison Charger Basketball
REFRESH-INTERVAL;VALUE=DURATION:PT1H
X-Robots-Tag:noindex
X-PUBLISHED-TTL:PT1H
BEGIN:VTIMEZONE
TZID:America/Los_Angeles
BEGIN:DAYLIGHT
TZOFFSETFROM:-0800
TZOFFSETTO:-0700
TZNAME:PDT
DTSTART:20240310T100000
END:DAYLIGHT
BEGIN:STANDARD
TZOFFSETFROM:-0700
TZOFFSETTO:-0800
TZNAME:PST
DTSTART:20241103T090000
END:STANDARD
BEGIN:DAYLIGHT
TZOFFSETFROM:-0800
TZOFFSETTO:-0700
TZNAME:PDT
DTSTART:20250309T100000
END:DAYLIGHT
BEGIN:STANDARD
TZOFFSETFROM:-0700
TZOFFSETTO:-0800
TZNAME:PST
DTSTART:20251102T090000
END:STANDARD
BEGIN:DAYLIGHT
TZOFFSETFROM:-0800
TZOFFSETTO:-0700
TZNAME:PDT
DTSTART:20260308T100000
END:DAYLIGHT
BEGIN:STANDARD
TZOFFSETFROM:-0700
TZOFFSETTO:-0800
TZNAME:PST
DTSTART:20261101T090000
END:STANDARD
END:VTIMEZONE
BEGIN:VEVENT
DTSTART;VALUE=DATE:20250630
DTEND;VALUE=DATE:20250719
DTSTAMP:20260425T044630
CREATED:20250402T040539Z
LAST-MODIFIED:20250715T140635Z
UID:1636-1751241600-1752883199@edisonchargerbasketball.com
SUMMARY:Freshman Summer Camp
DESCRIPTION:
URL:https://edisonchargerbasketball.com/event/freshman-practice/
LOCATION:Edison High School\, 21400 Magnolia Street\, Huntington Beach\, CA\, 92646
CATEGORIES:Freshman
END:VEVENT
BEGIN:VEVENT
DTSTART;VALUE=DATE:20250630
DTEND;VALUE=DATE:20250717
DTSTAMP:20260425T044630
CREATED:20250402T160610Z
LAST-MODIFIED:20250508T171958Z
UID:1655-1751241600-1752710399@edisonchargerbasketball.com
SUMMARY:JV Summer League @ Estancia
DESCRIPTION:
URL:https://edisonchargerbasketball.com/event/jv-tournament-estancia/
LOCATION:Estancia High School\, 2323 Placentia Ave\, Costa Mesa\, CA\, 92627
CATEGORIES:JV
END:VEVENT
BEGIN:VEVENT
DTSTART;VALUE=DATE:20250703
DTEND;VALUE=DATE:20250707
DTSTAMP:20260425T044630
CREATED:20250604T195511Z
LAST-MODIFIED:20250604T195511Z
UID:1730-1751500800-1751846399@edisonchargerbasketball.com
SUMMARY:JV Tourney @Newport Harbor
DESCRIPTION:
URL:https://edisonchargerbasketball.com/event/jv-tourney-newport-harbor/
LOCATION:Newport Harbor High School\, 600 Irvine Ave\, Newport Beach\, CA\, 92663
CATEGORIES:JV
END:VEVENT
BEGIN:VEVENT
DTSTART;TZID=America/Los_Angeles:20250703T121000
DTEND;TZID=America/Los_Angeles:20250703T133000
DTSTAMP:20260425T044630
CREATED:20250612T174214Z
LAST-MODIFIED:20250703T021648Z
UID:1741-1751544600-1751549400@edisonchargerbasketball.com
SUMMARY:JV vs Cypress @NHHS
DESCRIPTION:Click here for full schedule
URL:https://edisonchargerbasketball.com/event/jv-game-edison-vs-cypress-nhhs/
LOCATION:Newport Harbor High School\, 600 Irvine Ave\, Newport Beach\, CA\, 92663
CATEGORIES:JV
END:VEVENT
BEGIN:VEVENT
DTSTART;TZID=America/Los_Angeles:20250703T165000
DTEND;TZID=America/Los_Angeles:20250703T170000
DTSTAMP:20260425T044630
CREATED:20250612T174314Z
LAST-MODIFIED:20250703T021640Z
UID:1742-1751561400-1751562000@edisonchargerbasketball.com
SUMMARY:JV vs Dana Hills @NHHS
DESCRIPTION:Click here for full schedule
URL:https://edisonchargerbasketball.com/event/jv-game-edison-vs-dana-hills-nhhs/
LOCATION:Newport Harbor High School\, 600 Irvine Ave\, Newport Beach\, CA\, 92663
CATEGORIES:JV
END:VEVENT
BEGIN:VEVENT
DTSTART;TZID=America/Los_Angeles:20250703T180000
DTEND;TZID=America/Los_Angeles:20250703T190000
DTSTAMP:20260425T044630
CREATED:20250506T194044Z
LAST-MODIFIED:20250703T021631Z
UID:1700-1751565600-1751569200@edisonchargerbasketball.com
SUMMARY:Freshman GOLD vs Tustin @ Foothill HS
DESCRIPTION:
URL:https://edisonchargerbasketball.com/event/freshman-game-foothill-time-tbd-2/
LOCATION:Foothill High School\, 19251 Dodge Ave\, Santa Ana\, CA\, 92705
CATEGORIES:Freshman
END:VEVENT
END:VCALENDAR