BEGIN:VCALENDAR
VERSION:2.0
PRODID:-//Edison Charger Basketball - ECPv6.15.20//NONSGML v1.0//EN
CALSCALE:GREGORIAN
METHOD:PUBLISH
X-ORIGINAL-URL:https://edisonchargerbasketball.com
X-WR-CALDESC:Events for Edison Charger Basketball
REFRESH-INTERVAL;VALUE=DURATION:PT1H
X-Robots-Tag:noindex
X-PUBLISHED-TTL:PT1H
BEGIN:VTIMEZONE
TZID:America/Los_Angeles
BEGIN:DAYLIGHT
TZOFFSETFROM:-0800
TZOFFSETTO:-0700
TZNAME:PDT
DTSTART:20250309T100000
END:DAYLIGHT
BEGIN:STANDARD
TZOFFSETFROM:-0700
TZOFFSETTO:-0800
TZNAME:PST
DTSTART:20251102T090000
END:STANDARD
BEGIN:DAYLIGHT
TZOFFSETFROM:-0800
TZOFFSETTO:-0700
TZNAME:PDT
DTSTART:20260308T100000
END:DAYLIGHT
BEGIN:STANDARD
TZOFFSETFROM:-0700
TZOFFSETTO:-0800
TZNAME:PST
DTSTART:20261101T090000
END:STANDARD
BEGIN:DAYLIGHT
TZOFFSETFROM:-0800
TZOFFSETTO:-0700
TZNAME:PDT
DTSTART:20270314T100000
END:DAYLIGHT
BEGIN:STANDARD
TZOFFSETFROM:-0700
TZOFFSETTO:-0800
TZNAME:PST
DTSTART:20271107T090000
END:STANDARD
END:VTIMEZONE
BEGIN:VEVENT
DTSTART;TZID=America/Los_Angeles:20260308T163000
DTEND;TZID=America/Los_Angeles:20260308T193000
DTSTAMP:20260422T084311
CREATED:20251114T153126Z
LAST-MODIFIED:20260205T003637Z
UID:2453-1772987400-1772998200@edisonchargerbasketball.com
SUMMARY:Year End Banquet
DESCRIPTION:
URL:https://edisonchargerbasketball.com/event/year-end-banquet/
LOCATION:HIlton Waterfront\, 21100 Pacific Coast Hwy.\, Huntington Beach\, CA\, 92648
CATEGORIES:Freshman,JV,Varsity
ATTACH;FMTTYPE=image/png:https://edisonchargerbasketball.com/wp-content/uploads/2025/11/Banquet-2026.png
END:VEVENT
END:VCALENDAR