BEGIN:VCALENDAR
VERSION:2.0
PRODID:-//Edison Charger Basketball - ECPv6.15.20//NONSGML v1.0//EN
CALSCALE:GREGORIAN
METHOD:PUBLISH
X-ORIGINAL-URL:https://edisonchargerbasketball.com
X-WR-CALDESC:Events for Edison Charger Basketball
REFRESH-INTERVAL;VALUE=DURATION:PT1H
X-Robots-Tag:noindex
X-PUBLISHED-TTL:PT1H
BEGIN:VTIMEZONE
TZID:America/Los_Angeles
BEGIN:DAYLIGHT
TZOFFSETFROM:-0800
TZOFFSETTO:-0700
TZNAME:PDT
DTSTART:20240310T100000
END:DAYLIGHT
BEGIN:STANDARD
TZOFFSETFROM:-0700
TZOFFSETTO:-0800
TZNAME:PST
DTSTART:20241103T090000
END:STANDARD
BEGIN:DAYLIGHT
TZOFFSETFROM:-0800
TZOFFSETTO:-0700
TZNAME:PDT
DTSTART:20250309T100000
END:DAYLIGHT
BEGIN:STANDARD
TZOFFSETFROM:-0700
TZOFFSETTO:-0800
TZNAME:PST
DTSTART:20251102T090000
END:STANDARD
BEGIN:DAYLIGHT
TZOFFSETFROM:-0800
TZOFFSETTO:-0700
TZNAME:PDT
DTSTART:20260308T100000
END:DAYLIGHT
BEGIN:STANDARD
TZOFFSETFROM:-0700
TZOFFSETTO:-0800
TZNAME:PST
DTSTART:20261101T090000
END:STANDARD
END:VTIMEZONE
BEGIN:VEVENT
DTSTART;VALUE=DATE:20251201
DTEND;VALUE=DATE:20251207
DTSTAMP:20260424T111731
CREATED:20250830T153859Z
LAST-MODIFIED:20251110T231615Z
UID:1984-1764547200-1765065599@edisonchargerbasketball.com
SUMMARY:JV Games @Sonora HS Tourney
DESCRIPTION:
URL:https://edisonchargerbasketball.com/event/jv-sonora-tourney-tbd/
LOCATION:Sonora High School\, 401 S Palm St.\, La Habra\, CA\, 90631
CATEGORIES:JV
ATTACH;FMTTYPE=image/jpeg:https://edisonchargerbasketball.com/wp-content/uploads/2025/11/Sanora-225-JV-tourney.jpg
END:VEVENT
BEGIN:VEVENT
DTSTART;TZID=America/Los_Angeles:20251201T180000
DTEND;TZID=America/Los_Angeles:20251201T190000
DTSTAMP:20260424T111731
CREATED:20251110T231528Z
LAST-MODIFIED:20251110T231528Z
UID:2439-1764612000-1764615600@edisonchargerbasketball.com
SUMMARY:JV Game vs Bosco 1 - Sonora Tourney
DESCRIPTION:
URL:https://edisonchargerbasketball.com/event/jv-game-vs-bosco-1-sonora-tourney/
LOCATION:Sonora High School\, 401 S Palm St.\, La Habra\, CA\, 90631
CATEGORIES:JV
ATTACH;FMTTYPE=image/jpeg:https://edisonchargerbasketball.com/wp-content/uploads/2025/11/Sanora-225-JV-tourney.jpg
END:VEVENT
END:VCALENDAR