BEGIN:VCALENDAR
VERSION:2.0
PRODID:-//Edison Charger Basketball - ECPv6.15.20//NONSGML v1.0//EN
CALSCALE:GREGORIAN
METHOD:PUBLISH
X-WR-CALNAME:Edison Charger Basketball
X-ORIGINAL-URL:https://edisonchargerbasketball.com
X-WR-CALDESC:Events for Edison Charger Basketball
REFRESH-INTERVAL;VALUE=DURATION:PT1H
X-Robots-Tag:noindex
X-PUBLISHED-TTL:PT1H
BEGIN:VTIMEZONE
TZID:America/Los_Angeles
BEGIN:DAYLIGHT
TZOFFSETFROM:-0800
TZOFFSETTO:-0700
TZNAME:PDT
DTSTART:20240310T100000
END:DAYLIGHT
BEGIN:STANDARD
TZOFFSETFROM:-0700
TZOFFSETTO:-0800
TZNAME:PST
DTSTART:20241103T090000
END:STANDARD
BEGIN:DAYLIGHT
TZOFFSETFROM:-0800
TZOFFSETTO:-0700
TZNAME:PDT
DTSTART:20250309T100000
END:DAYLIGHT
BEGIN:STANDARD
TZOFFSETFROM:-0700
TZOFFSETTO:-0800
TZNAME:PST
DTSTART:20251102T090000
END:STANDARD
BEGIN:DAYLIGHT
TZOFFSETFROM:-0800
TZOFFSETTO:-0700
TZNAME:PDT
DTSTART:20260308T100000
END:DAYLIGHT
BEGIN:STANDARD
TZOFFSETFROM:-0700
TZOFFSETTO:-0800
TZNAME:PST
DTSTART:20261101T090000
END:STANDARD
BEGIN:DAYLIGHT
TZOFFSETFROM:-0800
TZOFFSETTO:-0700
TZNAME:PDT
DTSTART:20270314T100000
END:DAYLIGHT
BEGIN:STANDARD
TZOFFSETFROM:-0700
TZOFFSETTO:-0800
TZNAME:PST
DTSTART:20271107T090000
END:STANDARD
END:VTIMEZONE
BEGIN:VEVENT
DTSTART;TZID=America/Los_Angeles:20251222T133000
DTEND;TZID=America/Los_Angeles:20251222T133000
DTSTAMP:20260425T084403
CREATED:20250830T162323Z
LAST-MODIFIED:20251207T153808Z
UID:1990-1766410200-1766410200@edisonchargerbasketball.com
SUMMARY:JV Game vs. Northwood (Home)
DESCRIPTION:
URL:https://edisonchargerbasketball.com/event/jv-game-vs-northwood-tbd/
LOCATION:Edison High School\, 21400 Magnolia Street\, Huntington Beach\, CA\, 92646
CATEGORIES:JV
END:VEVENT
BEGIN:VEVENT
DTSTART;VALUE=DATE:20251226
DTEND;VALUE=DATE:20251231
DTSTAMP:20260425T084403
CREATED:20250830T162414Z
LAST-MODIFIED:20250830T162414Z
UID:1991-1766707200-1767139199@edisonchargerbasketball.com
SUMMARY:JV Games @Los Al Tourney (TBD)
DESCRIPTION:
URL:https://edisonchargerbasketball.com/event/jv-games-los-al-tourney-tbd/
LOCATION:Los Alamitos High School\, 3591 W Cerritos Ave.\, Los Alamitos\, CA\, 90720
CATEGORIES:JV
END:VEVENT
BEGIN:VEVENT
DTSTART;TZID=America/Los_Angeles:20251226T120000
DTEND;TZID=America/Los_Angeles:20251226T120000
DTSTAMP:20260425T084403
CREATED:20250917T223654Z
LAST-MODIFIED:20251207T154039Z
UID:2099-1766750400-1766750400@edisonchargerbasketball.com
SUMMARY:JV Game vs Crean Lutheran @Los Alamitos JV Tourney
DESCRIPTION:
URL:https://edisonchargerbasketball.com/event/jv-game-vs-crean-lutheran-los-alamitos-tourney/
LOCATION:Los Alamitos High School\, 3591 W Cerritos Ave.\, Los Alamitos\, CA\, 90720
CATEGORIES:JV
END:VEVENT
BEGIN:VEVENT
DTSTART;TZID=America/Los_Angeles:20260103T160000
DTEND;TZID=America/Los_Angeles:20260103T160000
DTSTAMP:20260425T084403
CREATED:20250830T162506Z
LAST-MODIFIED:20251207T164836Z
UID:1992-1767456000-1767456000@edisonchargerbasketball.com
SUMMARY:JV Game @Marina HS (Away)
DESCRIPTION:
URL:https://edisonchargerbasketball.com/event/jv-game-marina-hs/
LOCATION:Marina High School\, 15871 Springdale St\, Huntington Beach\, CA\, 92649
CATEGORIES:JV
END:VEVENT
BEGIN:VEVENT
DTSTART;TZID=America/Los_Angeles:20260105T173000
DTEND;TZID=America/Los_Angeles:20260105T173000
DTSTAMP:20260425T084403
CREATED:20250830T162748Z
LAST-MODIFIED:20251207T165557Z
UID:1994-1767634200-1767634200@edisonchargerbasketball.com
SUMMARY:JV Game vs. HB (Home)
DESCRIPTION:
URL:https://edisonchargerbasketball.com/event/jv-game-vs-hb/
LOCATION:Edison High School\, 21400 Magnolia Street\, Huntington Beach\, CA\, 92646
CATEGORIES:JV
END:VEVENT
BEGIN:VEVENT
DTSTART;TZID=America/Los_Angeles:20260109T173000
DTEND;TZID=America/Los_Angeles:20260109T173000
DTSTAMP:20260425T084403
CREATED:20250830T162910Z
LAST-MODIFIED:20251207T165714Z
UID:1995-1767979800-1767979800@edisonchargerbasketball.com
SUMMARY:JV Game @Newport Harbor (Away)
DESCRIPTION:
URL:https://edisonchargerbasketball.com/event/jv-game-newport-harbor/
LOCATION:Newport Harbor High School\, 600 Irvine Ave\, Newport Beach\, CA\, 92663
CATEGORIES:JV
END:VEVENT
BEGIN:VEVENT
DTSTART;TZID=America/Los_Angeles:20260112T173000
DTEND;TZID=America/Los_Angeles:20260112T173000
DTSTAMP:20260425T084403
CREATED:20250830T163110Z
LAST-MODIFIED:20251207T165806Z
UID:1996-1768239000-1768239000@edisonchargerbasketball.com
SUMMARY:JV Game vs. CDM (Home)
DESCRIPTION:
URL:https://edisonchargerbasketball.com/event/jv-game-vs-cdm/
LOCATION:Edison High School\, 21400 Magnolia Street\, Huntington Beach\, CA\, 92646
CATEGORIES:JV
END:VEVENT
BEGIN:VEVENT
DTSTART;TZID=America/Los_Angeles:20260114T173000
DTEND;TZID=America/Los_Angeles:20260114T173000
DTSTAMP:20260425T084403
CREATED:20250830T163143Z
LAST-MODIFIED:20251207T165934Z
UID:1997-1768411800-1768411800@edisonchargerbasketball.com
SUMMARY:JV Game @FV (Away)
DESCRIPTION:
URL:https://edisonchargerbasketball.com/event/jv-game-fv/
LOCATION:CA
CATEGORIES:JV
END:VEVENT
BEGIN:VEVENT
DTSTART;TZID=America/Los_Angeles:20260116T173000
DTEND;TZID=America/Los_Angeles:20260116T173000
DTSTAMP:20260425T084403
CREATED:20250830T163228Z
LAST-MODIFIED:20251207T170029Z
UID:1998-1768584600-1768584600@edisonchargerbasketball.com
SUMMARY:JV Game vs. Los Al (Home)
DESCRIPTION:
URL:https://edisonchargerbasketball.com/event/jv-game-los-al/
LOCATION:Edison High School\, 21400 Magnolia Street\, Huntington Beach\, CA\, 92646
CATEGORIES:JV
END:VEVENT
BEGIN:VEVENT
DTSTART;TZID=America/Los_Angeles:20260119T173000
DTEND;TZID=America/Los_Angeles:20260119T173000
DTSTAMP:20260425T084403
CREATED:20250830T163306Z
LAST-MODIFIED:20260114T053930Z
UID:1999-1768843800-1768843800@edisonchargerbasketball.com
SUMMARY:JV Game vs. Marina HS (Home)
DESCRIPTION:
URL:https://edisonchargerbasketball.com/event/jv-game-vs-marina-hs/
LOCATION:Edison High School\, 21400 Magnolia Street\, Huntington Beach\, CA\, 92646
CATEGORIES:JV
END:VEVENT
BEGIN:VEVENT
DTSTART;TZID=America/Los_Angeles:20260121T173000
DTEND;TZID=America/Los_Angeles:20260121T173000
DTSTAMP:20260425T084403
CREATED:20250830T163400Z
LAST-MODIFIED:20251207T170223Z
UID:2000-1769016600-1769016600@edisonchargerbasketball.com
SUMMARY:JV Game @HB (Away)
DESCRIPTION:
URL:https://edisonchargerbasketball.com/event/jv-game-hb/
LOCATION:Huntington Beach High School\, 1905 Main St\,\, Huntington Beach\, CA\, 92648
CATEGORIES:JV
END:VEVENT
BEGIN:VEVENT
DTSTART;TZID=America/Los_Angeles:20260308T163000
DTEND;TZID=America/Los_Angeles:20260308T193000
DTSTAMP:20260425T084403
CREATED:20251114T153126Z
LAST-MODIFIED:20260205T003637Z
UID:2453-1772987400-1772998200@edisonchargerbasketball.com
SUMMARY:Year End Banquet
DESCRIPTION:
URL:https://edisonchargerbasketball.com/event/year-end-banquet/
LOCATION:HIlton Waterfront\, 21100 Pacific Coast Hwy.\, Huntington Beach\, CA\, 92648
CATEGORIES:Freshman,JV,Varsity
ATTACH;FMTTYPE=image/png:https://edisonchargerbasketball.com/wp-content/uploads/2025/11/Banquet-2026.png
END:VEVENT
BEGIN:VEVENT
DTSTART;TZID=America/Los_Angeles:20260530T100000
DTEND;TZID=America/Los_Angeles:20260530T140000
DTSTAMP:20260425T084403
CREATED:20260218T184009Z
LAST-MODIFIED:20260218T185013Z
UID:2823-1780135200-1780149600@edisonchargerbasketball.com
SUMMARY:Physical Day
DESCRIPTION:
URL:https://edisonchargerbasketball.com/event/physical-day/
LOCATION:Edison High School\, 21400 Magnolia Street\, Huntington Beach\, CA\, 92646
CATEGORIES:Freshman,JV,Varsity
ATTACH;FMTTYPE=image/png:https://edisonchargerbasketball.com/wp-content/uploads/2026/02/PhysicalDay2026.png
END:VEVENT
BEGIN:VEVENT
DTSTART;VALUE=DATE:20260629
DTEND;VALUE=DATE:20260727
DTSTAMP:20260425T084403
CREATED:20260311T145303Z
LAST-MODIFIED:20260311T153600Z
UID:2853-1782691200-1785110399@edisonchargerbasketball.com
SUMMARY:JV Summer League @ Estancia HS
DESCRIPTION:
URL:https://edisonchargerbasketball.com/event/jv-summer-league-estancia-hs/
LOCATION:Estancia High School\, 2323 Placentia Ave\, Costa Mesa\, CA\, 92627
CATEGORIES:JV
END:VEVENT
BEGIN:VEVENT
DTSTART;VALUE=DATE:20260724
DTEND;VALUE=DATE:20260727
DTSTAMP:20260425T084403
CREATED:20260311T143246Z
LAST-MODIFIED:20260311T143246Z
UID:2846-1784851200-1785110399@edisonchargerbasketball.com
SUMMARY:Surf City Invitational Shootout Tournament- JV/Soph/Frosh @Edison 2026
DESCRIPTION:Game Schedules TBD
URL:https://edisonchargerbasketball.com/event/surf-city-invitational-shootout-tournament-jv-soph-frosh-edison-2026/
LOCATION:Edison High School\, 21400 Magnolia Street\, Huntington Beach\, CA\, 92646
CATEGORIES:Freshman,JV
END:VEVENT
END:VCALENDAR