BEGIN:VCALENDAR
VERSION:2.0
PRODID:-//Edison Charger Basketball - ECPv6.15.20//NONSGML v1.0//EN
CALSCALE:GREGORIAN
METHOD:PUBLISH
X-WR-CALNAME:Edison Charger Basketball
X-ORIGINAL-URL:https://edisonchargerbasketball.com
X-WR-CALDESC:Events for Edison Charger Basketball
REFRESH-INTERVAL;VALUE=DURATION:PT1H
X-Robots-Tag:noindex
X-PUBLISHED-TTL:PT1H
BEGIN:VTIMEZONE
TZID:America/Los_Angeles
BEGIN:DAYLIGHT
TZOFFSETFROM:-0800
TZOFFSETTO:-0700
TZNAME:PDT
DTSTART:20240310T100000
END:DAYLIGHT
BEGIN:STANDARD
TZOFFSETFROM:-0700
TZOFFSETTO:-0800
TZNAME:PST
DTSTART:20241103T090000
END:STANDARD
BEGIN:DAYLIGHT
TZOFFSETFROM:-0800
TZOFFSETTO:-0700
TZNAME:PDT
DTSTART:20250309T100000
END:DAYLIGHT
BEGIN:STANDARD
TZOFFSETFROM:-0700
TZOFFSETTO:-0800
TZNAME:PST
DTSTART:20251102T090000
END:STANDARD
BEGIN:DAYLIGHT
TZOFFSETFROM:-0800
TZOFFSETTO:-0700
TZNAME:PDT
DTSTART:20260308T100000
END:DAYLIGHT
BEGIN:STANDARD
TZOFFSETFROM:-0700
TZOFFSETTO:-0800
TZNAME:PST
DTSTART:20261101T090000
END:STANDARD
END:VTIMEZONE
BEGIN:VEVENT
DTSTART;VALUE=DATE:20251118
DTEND;VALUE=DATE:20251122
DTSTAMP:20260422T021745
CREATED:20250502T165717Z
LAST-MODIFIED:20251120T221253Z
UID:1680-1763424000-1763769599@edisonchargerbasketball.com
SUMMARY:Edison High School Winter JV Tournament 2025
DESCRIPTION:Edison High School will be hosting a basketball tournament for Junior Varsity Teams to complete against top local programs\, gain valuable experience and showcase their skills in a competitive and fun environment \n\n\nAll JV Teams\nNovember 18-21 2025\nGuaranteed 4 games\n$450 per team\nRegistration Closes 9/15/2025
URL:https://edisonchargerbasketball.com/event/winter-2025-jv-tournament/
LOCATION:Edison High School\, 21400 Magnolia Street\, Huntington Beach\, CA\, 92646
CATEGORIES:JV
END:VEVENT
BEGIN:VEVENT
DTSTART;TZID=America/Los_Angeles:20251117T163000
DTEND;TZID=America/Los_Angeles:20251117T173000
DTSTAMP:20260422T021745
CREATED:20250830T153514Z
LAST-MODIFIED:20251113T003104Z
UID:1982-1763397000-1763400600@edisonchargerbasketball.com
SUMMARY:JV Game vs. Rancho Dominguez (Canceled)
DESCRIPTION:
URL:https://edisonchargerbasketball.com/event/jv-home-game-vs-rancho-dominguez/
LOCATION:Edison High School\, 21400 Magnolia Street\, Huntington Beach\, CA\, 92646
CATEGORIES:JV
END:VEVENT
BEGIN:VEVENT
DTSTART;TZID=America/Los_Angeles:20251105T170000
DTEND;TZID=America/Los_Angeles:20251105T180000
DTSTAMP:20260422T021745
CREATED:20251013T161016Z
LAST-MODIFIED:20251013T161016Z
UID:2237-1762362000-1762365600@edisonchargerbasketball.com
SUMMARY:JV Scrimmage @Fullerton HS
DESCRIPTION:
URL:https://edisonchargerbasketball.com/event/jv-scrimmage-fullerton-hs/
LOCATION:Fullerton High School\, 201 E Chapman Ave.\, Fullerton\, CA\, 92832
CATEGORIES:JV
END:VEVENT
BEGIN:VEVENT
DTSTART;TZID=America/Los_Angeles:20251101T120000
DTEND;TZID=America/Los_Angeles:20251101T140000
DTSTAMP:20260422T021745
CREATED:20251014T134643Z
LAST-MODIFIED:20251030T043724Z
UID:2254-1761998400-1762005600@edisonchargerbasketball.com
SUMMARY:Winter Kick Off Event
DESCRIPTION:
URL:https://edisonchargerbasketball.com/event/winter-kick-off-event/
LOCATION:Edison High School\, 21400 Magnolia Street\, Huntington Beach\, CA\, 92646
CATEGORIES:Freshman,JV,Varsity
END:VEVENT
BEGIN:VEVENT
DTSTART;TZID=America/Los_Angeles:20251025T101000
DTEND;TZID=America/Los_Angeles:20251025T111000
DTSTAMP:20260422T021745
CREATED:20250909T211546Z
LAST-MODIFIED:20251017T011253Z
UID:2071-1761387000-1761390600@edisonchargerbasketball.com
SUMMARY:JV Fall League Game vs. Fullerton @Valencia HS
DESCRIPTION:
URL:https://edisonchargerbasketball.com/event/jv-fall-league-game-vs-yorbalinda-valencia-hs/
LOCATION:Valencia High School\, 500 N. Bradford Ave.\, Placentia\, CA\, 92870
CATEGORIES:JV
END:VEVENT
BEGIN:VEVENT
DTSTART;VALUE=DATE:20251025
DTEND;VALUE=DATE:20251026
DTSTAMP:20260422T021745
CREATED:20250830T030157Z
LAST-MODIFIED:20250830T030157Z
UID:1943-1761350400-1761436799@edisonchargerbasketball.com
SUMMARY:JV Fall League Games @Valencia HS - TBD
DESCRIPTION:
URL:https://edisonchargerbasketball.com/event/jv-fall-league-games-valencia-hs-tbd-3/
LOCATION:Valencia High School\, 500 N. Bradford Ave.\, Placentia\, CA\, 92870
CATEGORIES:JV
END:VEVENT
BEGIN:VEVENT
DTSTART;TZID=America/Los_Angeles:20251018T134000
DTEND;TZID=America/Los_Angeles:20251018T144000
DTSTAMP:20260422T021745
CREATED:20250909T211502Z
LAST-MODIFIED:20250909T211502Z
UID:2070-1760794800-1760798400@edisonchargerbasketball.com
SUMMARY:JV Fall League Game vs. Valencia JV @Valencia HS
DESCRIPTION:
URL:https://edisonchargerbasketball.com/event/jv-fall-league-game-vs-valencia-jv-valencia-hs/
LOCATION:Valencia High School\, 500 N. Bradford Ave.\, Placentia\, CA\, 92870
CATEGORIES:JV
END:VEVENT
BEGIN:VEVENT
DTSTART;VALUE=DATE:20251018
DTEND;VALUE=DATE:20251019
DTSTAMP:20260422T021745
CREATED:20250830T030138Z
LAST-MODIFIED:20250830T030138Z
UID:1942-1760745600-1760831999@edisonchargerbasketball.com
SUMMARY:JV Fall League Games @Valencia HS - TBD
DESCRIPTION:
URL:https://edisonchargerbasketball.com/event/jv-fall-league-games-valencia-hs-tbd-2/
LOCATION:Valencia High School\, 500 N. Bradford Ave.\, Placentia\, CA\, 92870
CATEGORIES:JV
END:VEVENT
BEGIN:VEVENT
DTSTART;TZID=America/Los_Angeles:20251011T112000
DTEND;TZID=America/Los_Angeles:20251011T122000
DTSTAMP:20260422T021745
CREATED:20250909T211353Z
LAST-MODIFIED:20250909T211353Z
UID:2069-1760181600-1760185200@edisonchargerbasketball.com
SUMMARY:JV Fall League Game vs. Sonora @Valencia HS
DESCRIPTION:
URL:https://edisonchargerbasketball.com/event/jv-fall-league-game-vs-sonora-valencia-hs/
LOCATION:Valencia High School\, 500 N. Bradford Ave.\, Placentia\, CA\, 92870
CATEGORIES:JV
END:VEVENT
BEGIN:VEVENT
DTSTART;VALUE=DATE:20251011
DTEND;VALUE=DATE:20251012
DTSTAMP:20260422T021745
CREATED:20250830T030113Z
LAST-MODIFIED:20250830T030113Z
UID:1941-1760140800-1760227199@edisonchargerbasketball.com
SUMMARY:JV Fall League Games @Valencia HS - TBD
DESCRIPTION:
URL:https://edisonchargerbasketball.com/event/jv-fall-league-games-valencia-hs-tbd/
LOCATION:Valencia High School\, 500 N. Bradford Ave.\, Placentia\, CA\, 92870
CATEGORIES:JV
END:VEVENT
BEGIN:VEVENT
DTSTART;TZID=America/Los_Angeles:20251004T090000
DTEND;TZID=America/Los_Angeles:20251004T220000
DTSTAMP:20260422T021745
CREATED:20250909T211251Z
LAST-MODIFIED:20250909T211251Z
UID:2068-1759568400-1759615200@edisonchargerbasketball.com
SUMMARY:JV Fall League Game vs. Troy @Valencia HS
DESCRIPTION:
URL:https://edisonchargerbasketball.com/event/jv-fall-league-game-vs-troy-valencia-hs/
LOCATION:Valencia High School\, 500 N. Bradford Ave.\, Placentia\, CA\, 92870
CATEGORIES:JV
END:VEVENT
BEGIN:VEVENT
DTSTART;VALUE=DATE:20251004
DTEND;VALUE=DATE:20251005
DTSTAMP:20260422T021745
CREATED:20250830T030008Z
LAST-MODIFIED:20250830T030031Z
UID:1939-1759536000-1759622399@edisonchargerbasketball.com
SUMMARY:JV Fall League Games @Valencia HS - TBD
DESCRIPTION:
URL:https://edisonchargerbasketball.com/event/jv-fall-league-valencia-hs-tbd/
LOCATION:Valencia High School\, 500 N. Bradford Ave.\, Placentia\, CA\, 92870
CATEGORIES:JV
END:VEVENT
BEGIN:VEVENT
DTSTART;TZID=America/Los_Angeles:20250928T150000
DTEND;TZID=America/Los_Angeles:20250928T160000
DTSTAMP:20260422T021745
CREATED:20250917T215814Z
LAST-MODIFIED:20250917T215814Z
UID:2096-1759071600-1759075200@edisonchargerbasketball.com
SUMMARY:JV Game vs North Torrance @St. Pius X - St. Matthias
DESCRIPTION:
URL:https://edisonchargerbasketball.com/event/jv-game-vs-north-torrance-st-pius-x-st-matthias/
LOCATION:St. Pius X – St. Matthias Academy\, 7851 Gardendale St.\, Downey\, CA\, 90242
CATEGORIES:JV
END:VEVENT
BEGIN:VEVENT
DTSTART;VALUE=DATE:20250928
DTEND;VALUE=DATE:20250929
DTSTAMP:20260422T021745
CREATED:20250910T041431Z
LAST-MODIFIED:20250910T041431Z
UID:2077-1759017600-1759103999@edisonchargerbasketball.com
SUMMARY:JV Games St Pius Showcase - TBD
DESCRIPTION:
URL:https://edisonchargerbasketball.com/event/jv-games-st-pius-showcase-tbd/
LOCATION:St. Pius High School\, 7851 Gardendale St.\, Downey\, CA\, 90242
CATEGORIES:JV
END:VEVENT
BEGIN:VEVENT
DTSTART;TZID=America/Los_Angeles:20250914T150000
DTEND;TZID=America/Los_Angeles:20250914T160000
DTSTAMP:20260422T021745
CREATED:20250908T165745Z
LAST-MODIFIED:20250908T165745Z
UID:2061-1757862000-1757865600@edisonchargerbasketball.com
SUMMARY:JV Game - OGP Fall Tipoff Tourney - Ladera Ranch
DESCRIPTION:
URL:https://edisonchargerbasketball.com/event/jv-game-ogp-fall-tipoff-tourney-ladera-ranch/
LOCATION:Open Gym Premier (OGP) – Ladera Ranch\, 2 Terrace Rd.\, Ladera Ranch\, CA\, 92694
CATEGORIES:JV
END:VEVENT
BEGIN:VEVENT
DTSTART;TZID=America/Los_Angeles:20250914T124000
DTEND;TZID=America/Los_Angeles:20250914T134000
DTSTAMP:20260422T021745
CREATED:20250908T165659Z
LAST-MODIFIED:20250908T165832Z
UID:2060-1757853600-1757857200@edisonchargerbasketball.com
SUMMARY:JV Game - OGP Fall Tipoff Tourney - Ladera Ranch
DESCRIPTION:
URL:https://edisonchargerbasketball.com/event/jv-game-ogp-fall-tip-off-tourney-ladera-ranch-3/
LOCATION:Open Gym Premier (OGP) – Ladera Ranch\, 2 Terrace Rd.\, Ladera Ranch\, CA\, 92694
CATEGORIES:JV
END:VEVENT
BEGIN:VEVENT
DTSTART;TZID=America/Los_Angeles:20250913T124000
DTEND;TZID=America/Los_Angeles:20250913T134000
DTSTAMP:20260422T021745
CREATED:20250908T165537Z
LAST-MODIFIED:20250908T165838Z
UID:2058-1757767200-1757770800@edisonchargerbasketball.com
SUMMARY:JV Game - OGP Fall Tipoff Tourney - Ladera Ranch
DESCRIPTION:
URL:https://edisonchargerbasketball.com/event/jv-game-ogp-fall-tip-off-tourney-ladera-ranch-2/
LOCATION:Open Gym Premier (OGP) – Ladera Ranch\, 2 Terrace Rd.\, Ladera Ranch\, CA\, 92694
CATEGORIES:JV
END:VEVENT
BEGIN:VEVENT
DTSTART;TZID=America/Los_Angeles:20250913T091000
DTEND;TZID=America/Los_Angeles:20250913T101000
DTSTAMP:20260422T021745
CREATED:20250908T165303Z
LAST-MODIFIED:20250908T165953Z
UID:2054-1757754600-1757758200@edisonchargerbasketball.com
SUMMARY:JV Game - OGP Fall Tip off Tourney - Ladera Ranch
DESCRIPTION:
URL:https://edisonchargerbasketball.com/event/jv-game-ogp-fall-tip-off-tourney-ladera-ranch/
LOCATION:Open Gym Premier (OGP) – Ladera Ranch\, 2 Terrace Rd.\, Ladera Ranch\, CA\, 92694
CATEGORIES:JV
END:VEVENT
BEGIN:VEVENT
DTSTART;TZID=America/Los_Angeles:20250909T193000
DTEND;TZID=America/Los_Angeles:20250909T203000
DTSTAMP:20260422T021745
CREATED:20250904T132104Z
LAST-MODIFIED:20250908T131230Z
UID:2042-1757446200-1757449800@edisonchargerbasketball.com
SUMMARY:Mandatory Parent Meeting
DESCRIPTION:
URL:https://edisonchargerbasketball.com/event/mandatory-parent-meeting/
LOCATION:Edison High School\, 21400 Magnolia Street\, Huntington Beach\, CA\, 92646
CATEGORIES:Freshman,JV,Varsity
END:VEVENT
BEGIN:VEVENT
DTSTART;TZID=America/Los_Angeles:20250902T180000
DTEND;TZID=America/Los_Angeles:20250903T193000
DTSTAMP:20260422T021745
CREATED:20250822T133833Z
LAST-MODIFIED:20250829T220745Z
UID:1916-1756836000-1756927800@edisonchargerbasketball.com
SUMMARY:Tryouts for all Levels & Students 6-7:30pm
DESCRIPTION:All returners should be at tryouts!
URL:https://edisonchargerbasketball.com/event/tryouts-for-all-students/
LOCATION:Edison High School\, 21400 Magnolia Street\, Huntington Beach\, CA\, 92646
CATEGORIES:Freshman,JV,Varsity
END:VEVENT
BEGIN:VEVENT
DTSTART;TZID=America/Los_Angeles:20250716T125500
DTEND;TZID=America/Los_Angeles:20250716T133000
DTSTAMP:20260422T021745
CREATED:20250612T175640Z
LAST-MODIFIED:20250703T021407Z
UID:1748-1752670500-1752672600@edisonchargerbasketball.com
SUMMARY:JV vs Laguna @Estancia HS
DESCRIPTION:Click here for full schedule
URL:https://edisonchargerbasketball.com/event/jv-game-edison-vs-cdm-estancia-hs-2/
LOCATION:Estancia High School\, 2323 Placentia Ave\, Costa Mesa\, CA\, 92627
CATEGORIES:JV
END:VEVENT
BEGIN:VEVENT
DTSTART;TZID=America/Los_Angeles:20250714T135000
DTEND;TZID=America/Los_Angeles:20250714T143000
DTSTAMP:20260422T021745
CREATED:20250612T175537Z
LAST-MODIFIED:20250712T225759Z
UID:1747-1752501000-1752503400@edisonchargerbasketball.com
SUMMARY:JV vs Century @Estancia HS
DESCRIPTION:Click here for full schedule
URL:https://edisonchargerbasketball.com/event/jv-game-edison-vs-laguna-estancia-hs/
LOCATION:Estancia High School\, 2323 Placentia Ave\, Costa Mesa\, CA\, 92627
CATEGORIES:JV
END:VEVENT
BEGIN:VEVENT
DTSTART;TZID=America/Los_Angeles:20250712T190000
DTEND;TZID=America/Los_Angeles:20250712T200000
DTSTAMP:20260422T021745
CREATED:20250628T023218Z
LAST-MODIFIED:20250703T021136Z
UID:1813-1752346800-1752350400@edisonchargerbasketball.com
SUMMARY:JV vs Crean Lutheran - Surf City Invitational @ Edison HS
DESCRIPTION:
URL:https://edisonchargerbasketball.com/event/jv-game-vs-crean-lutheran-surf-city-invitational-edison-hs/
LOCATION:Edison High School\, 21400 Magnolia Street\, Huntington Beach\, CA\, 92646
CATEGORIES:JV
END:VEVENT
BEGIN:VEVENT
DTSTART;TZID=America/Los_Angeles:20250712T130000
DTEND;TZID=America/Los_Angeles:20250712T140000
DTSTAMP:20260422T021745
CREATED:20250628T023131Z
LAST-MODIFIED:20250703T021142Z
UID:1812-1752325200-1752328800@edisonchargerbasketball.com
SUMMARY:JV vs San Juan Hills - Surf City Invitational @ Edison HS
DESCRIPTION:
URL:https://edisonchargerbasketball.com/event/jv-game-vs-san-juan-hills-surf-city-invitational-edison-hs/
LOCATION:CA
CATEGORIES:JV
END:VEVENT
BEGIN:VEVENT
DTSTART;TZID=America/Los_Angeles:20250712T110000
DTEND;TZID=America/Los_Angeles:20250712T120000
DTSTAMP:20260422T021745
CREATED:20250628T022838Z
LAST-MODIFIED:20250703T021155Z
UID:1809-1752318000-1752321600@edisonchargerbasketball.com
SUMMARY:Sophomore vs CDM - Surf City Invitational @ Edison HS
DESCRIPTION:
URL:https://edisonchargerbasketball.com/event/sophomore-game-vs-cdm-surf-city-invitational-edison-hs/
LOCATION:Edison High School\, 21400 Magnolia Street\, Huntington Beach\, CA\, 92646
CATEGORIES:JV
END:VEVENT
BEGIN:VEVENT
DTSTART;TZID=America/Los_Angeles:20250712T090000
DTEND;TZID=America/Los_Angeles:20250712T100000
DTSTAMP:20260422T021745
CREATED:20250628T022716Z
LAST-MODIFIED:20250703T021214Z
UID:1808-1752310800-1752314400@edisonchargerbasketball.com
SUMMARY:Sophomore vs Orange Lutheran - Surf City Invitational @ Edison HS
DESCRIPTION:
URL:https://edisonchargerbasketball.com/event/sophomore-game-vs-orange-lutheran-surf-city-invitational-edison-hs/
LOCATION:Edison High School\, 21400 Magnolia Street\, Huntington Beach\, CA\, 92646
CATEGORIES:JV
END:VEVENT
BEGIN:VEVENT
DTSTART;TZID=America/Los_Angeles:20250711T190000
DTEND;TZID=America/Los_Angeles:20250711T200000
DTSTAMP:20260422T021745
CREATED:20250628T023030Z
LAST-MODIFIED:20250703T021223Z
UID:1811-1752260400-1752264000@edisonchargerbasketball.com
SUMMARY:JV vs Laguna Beach - Surf City Invitational @ Edison HS
DESCRIPTION:
URL:https://edisonchargerbasketball.com/event/jv-game-vs-laguna-beach-surf-city-invitational-edison-hs/
LOCATION:Edison High School\, 21400 Magnolia Street\, Huntington Beach\, CA\, 92646
CATEGORIES:JV
END:VEVENT
BEGIN:VEVENT
DTSTART;TZID=America/Los_Angeles:20250711T120000
DTEND;TZID=America/Los_Angeles:20250711T130000
DTSTAMP:20260422T021745
CREATED:20250628T022621Z
LAST-MODIFIED:20250703T021236Z
UID:1807-1752235200-1752238800@edisonchargerbasketball.com
SUMMARY:Sophomore vs San Juan Hills - Surf City Invitational @ Edison HS
DESCRIPTION:
URL:https://edisonchargerbasketball.com/event/sophomore-game-vs-san-juan-hills-surf-city-invitational-edison-hs/
LOCATION:Edison High School\, 21400 Magnolia Street\, Huntington Beach\, CA\, 92646
CATEGORIES:JV
END:VEVENT
BEGIN:VEVENT
DTSTART;TZID=America/Los_Angeles:20250711T100000
DTEND;TZID=America/Los_Angeles:20250711T110000
DTSTAMP:20260422T021745
CREATED:20250628T022935Z
LAST-MODIFIED:20250703T021242Z
UID:1810-1752228000-1752231600@edisonchargerbasketball.com
SUMMARY:JV vs Fullerton - Surf City Invitational @ Edison HS
DESCRIPTION:
URL:https://edisonchargerbasketball.com/event/jv-game-vs-fullerton-surf-city-invitational-edison-hs/
LOCATION:Edison High School\, 21400 Magnolia Street\, Huntington Beach\, CA\, 92646
CATEGORIES:JV
END:VEVENT
BEGIN:VEVENT
DTSTART;TZID=America/Los_Angeles:20250711T080000
DTEND;TZID=America/Los_Angeles:20250711T090000
DTSTAMP:20260422T021745
CREATED:20250628T022516Z
LAST-MODIFIED:20250703T021118Z
UID:1806-1752220800-1752224400@edisonchargerbasketball.com
SUMMARY:Sophomore vs Sage Hill - Surf City Invitational @ Edison HS
DESCRIPTION:
URL:https://edisonchargerbasketball.com/event/sophomore-game-vs-sage-hill-surf-city-invitational-edison-hs/
LOCATION:Edison High School\, 21400 Magnolia Street\, Huntington Beach\, CA\, 92646
CATEGORIES:JV
END:VEVENT
END:VCALENDAR